BEGIN:VCALENDAR
VERSION:2.0
PRODID:-//Absolute Run Bremen - Dein Laufprofi in Bremen - ECPv6.7.0//NONSGML v1.0//EN
CALSCALE:GREGORIAN
METHOD:PUBLISH
X-WR-CALNAME:Absolute Run Bremen - Dein Laufprofi in Bremen
X-ORIGINAL-URL:https://absolute-run-bremen.de
X-WR-CALDESC:Veranstaltungen für Absolute Run Bremen - Dein Laufprofi in Bremen
REFRESH-INTERVAL;VALUE=DURATION:PT1H
X-Robots-Tag:noindex
X-PUBLISHED-TTL:PT1H
BEGIN:VTIMEZONE
TZID:Europe/Berlin
BEGIN:DAYLIGHT
TZOFFSETFROM:+0100
TZOFFSETTO:+0200
TZNAME:CEST
DTSTART:20260329T010000
END:DAYLIGHT
BEGIN:STANDARD
TZOFFSETFROM:+0200
TZOFFSETTO:+0100
TZNAME:CET
DTSTART:20261025T010000
END:STANDARD
END:VTIMEZONE
BEGIN:VEVENT
DTSTART;TZID=Europe/Berlin:20260305T190000
DTEND;TZID=Europe/Berlin:20260305T210000
DTSTAMP:20260421T114432
CREATED:20260224T093708Z
LAST-MODIFIED:20260224T093708Z
UID:3933-1772737200-1772744400@absolute-run-bremen.de
SUMMARY:Laufanalyse mit Patrick Dekorsi
DESCRIPTION:[vc_single_image image=“3934″ img_size=“large“ css=““]Besser laufen. Schmerzfrei bleiben.\nMehr erreichen.\nDu willst effizienter laufen\, Verletzungen vermeiden und dein volles Potenzial aus-schöpfen? Dann ist unser Vortrag zur Laufanalyse genau das Richtige für dich! \nErfahre:\n– Warum deine Lauftechnik entscheidend ist\n– ⁠Wie Fehlbelastungen entstehen\n– ⁠Welche Faktoren deine Performance verbessern\n– ⁠Wie eine professionelle Laufanalyse dich wirklich weiterbringt \nEgal ob Einsteiger oder ambitionierter Läufer – optimiere deinen Laufstil und hol dir wertvolle Tipps.\nJetzt Platz sichern & den nächsten Schritt\nmachen! \n#Laufanalyse #Running #Lauftechnik #Performance #Gesund-Laufen
URL:https://absolute-run-bremen.de/veranstaltungen/laufanalyse-mit-patrick-dekorsi/
END:VEVENT
BEGIN:VEVENT
DTSTART;TZID=Europe/Berlin:20260317T180000
DTEND;TZID=Europe/Berlin:20260317T203000
DTSTAMP:20260421T114432
CREATED:20260304T135930Z
LAST-MODIFIED:20260304T135930Z
UID:3980-1773770400-1773779400@absolute-run-bremen.de
SUMMARY:New Balance Test & Try
DESCRIPTION:[vc_single_image image=“3981″ img_size=“large“ css=““]🔥 TEST & TRY NEW BALANCE 1080 v15 🔥 \nAm 17.03. bringen wir die Straße zum Beben! Gemeinsam mit New Balance feiern wir den brandneuen 1080 v15\, mehr Komfort\, mehr Bounce\, mehr Laufgefühl als je zuvor. \nJetzt ist deine Chance\, den Schuh nicht nur zu sehen\, sondern ihn wirklich zu erleben! \n⏰ 18:00 Uhr: Schuhausgabe🏃‍♂️ 18:30 Uhr: Wir starten gemeinsam durch! \nZieh den 1080 v15 an\, spür die Infinion Dämpfung und genieß einen energiegeladenen Run mit der Crew. \nUnd danach?Belohnung! 🙌Das Café Vielleicht versorgt uns mit richtig gutem Essen\, damit wir den Abend entspannt ausklingen lassen können. \nSei dabei.Teste den neuen 1080 v15.Spür den Unterschied. \nWir sehen uns am 17.03.!🔥👟
URL:https://absolute-run-bremen.de/veranstaltungen/new-balance-test-try-2/
END:VEVENT
END:VCALENDAR