BEGIN:VCALENDAR
VERSION:2.0
PRODID:-//Absolute Run Bremen - Dein Laufprofi in Bremen - ECPv6.7.0//NONSGML v1.0//EN
CALSCALE:GREGORIAN
METHOD:PUBLISH
X-ORIGINAL-URL:https://absolute-run-bremen.de
X-WR-CALDESC:Veranstaltungen für Absolute Run Bremen - Dein Laufprofi in Bremen
REFRESH-INTERVAL;VALUE=DURATION:PT1H
X-Robots-Tag:noindex
X-PUBLISHED-TTL:PT1H
BEGIN:VTIMEZONE
TZID:Europe/Berlin
BEGIN:DAYLIGHT
TZOFFSETFROM:+0100
TZOFFSETTO:+0200
TZNAME:CEST
DTSTART:20260329T010000
END:DAYLIGHT
BEGIN:STANDARD
TZOFFSETFROM:+0200
TZOFFSETTO:+0100
TZNAME:CET
DTSTART:20261025T010000
END:STANDARD
END:VTIMEZONE
BEGIN:VEVENT
DTSTART;TZID=Europe/Berlin:20260210T180000
DTEND;TZID=Europe/Berlin:20260210T200000
DTSTAMP:20260421T144627
CREATED:20251223T174523Z
LAST-MODIFIED:20260127T140000Z
UID:3626-1770746400-1770753600@absolute-run-bremen.de
SUMMARY:Testevent Brooks Glycerin Flex
DESCRIPTION:[vc_single_image image=“3815″ img_size=“large“ css=““]🏃‍♂️🔥 Test & Try mit Brooks Glycerin Flex 🔥🏃‍♀️ \nLust auf eine Runde mit frischem Laufgefühl?Dann komm zu unserem Test & Try Event und lauf den neuen Brooks Glycerin Flex direkt Probe! \nDer Glycerin Flex kombiniert softe Dämpfung mit extra Flexibilität für ein geschmeidiges\, dynamisches Abrollen und ein natürliches Laufgefühl vom ersten Schritt an. Anziehen\, loslaufen\, selbst spüren! \n📅 10.02.⏰ 18:00 Uhr: Schuhausgabe🏃 18:30 Uhr: gemeinsamer Testlauf \nEgal ob Feierabendrunde oder entspannter Trainingslauf\, schnapp dir ein Paar\, lauf mit und erlebe den Glycerin Flex live.Vorbeikommen\, testen\, Spaß haben! 👟✨
URL:https://absolute-run-bremen.de/veranstaltungen/testevent-brooks-glycerin-flex/
LOCATION:Absolute Run Bremen\, Am Wall 143\, Bremen\, Bremen\, 28195\, Deutschland
END:VEVENT
BEGIN:VEVENT
DTSTART;TZID=Europe/Berlin:20260218T190000
DTEND;TZID=Europe/Berlin:20260218T203000
DTSTAMP:20260421T144627
CREATED:20260121T193847Z
LAST-MODIFIED:20260127T102231Z
UID:3769-1771441200-1771446600@absolute-run-bremen.de
SUMMARY:Wettkampf Vorbereitung Teil 2
DESCRIPTION:[vc_single_image image=“3669″ img_size=“large“ css=““]Birte Bernhardt ist seit über zehn Jahren Trainerin des Laufteams A des SV Werder Bremen . \nAls Athletin hat sie beeindruckende 97 Marathon- und Ultramarathons erfolgreich gefinisht .Zu ihren jüngsten Highlights zählen ein 100 km Lauf unter 10 Stunden im Jahr 2024  sowie 2025 der Marathon des Sables\, ein 250 km langes\, self-supported Etappenrennen durch die Sahara .
URL:https://absolute-run-bremen.de/veranstaltungen/wettkampf-vorbereitung-teil-2/
END:VEVENT
BEGIN:VEVENT
DTSTART;TZID=Europe/Berlin:20260224T180000
DTEND;TZID=Europe/Berlin:20260224T200000
DTSTAMP:20260421T144627
CREATED:20260211T150157Z
LAST-MODIFIED:20260224T123752Z
UID:3869-1771956000-1771963200@absolute-run-bremen.de
SUMMARY:Saucony Test Event
DESCRIPTION:[vc_single_image image=“3871″ img_size=“large“ css=““]ENDORPHIN AZURA EVENT\, LET’S GO! 🔥👟 \nReady to run? Gemeinsam mit Saucony bringen wir am 24.02. die Straße zum Beben!Teste den brandneuen Endorphin Azura und spüre pure Speed & Performance bei unserem Community Run. \n⚡ 18:00 Uhr Schuhausgabe⚡ 18:30 Uhr Startschuss \nSchnür dir den Azura\, push dein Tempo und lauf mit uns durch den Abend. Egal ob du Bestzeiten jagst oder einfach den Vibe genießen willst\, wir laufen gemeinsam! \nBring deine Crew mit\, markier deine Lauf-Buddys und sei dabei! ❤️🏃‍♂️🏃‍♀️
URL:https://absolute-run-bremen.de/veranstaltungen/saucony-test-event/
END:VEVENT
END:VCALENDAR