BEGIN:VCALENDAR
VERSION:2.0
PRODID:-//Absolute Run Bremen - Dein Laufprofi in Bremen - ECPv6.7.0//NONSGML v1.0//EN
CALSCALE:GREGORIAN
METHOD:PUBLISH
X-WR-CALNAME:Absolute Run Bremen - Dein Laufprofi in Bremen
X-ORIGINAL-URL:https://absolute-run-bremen.de
X-WR-CALDESC:Veranstaltungen für Absolute Run Bremen - Dein Laufprofi in Bremen
REFRESH-INTERVAL;VALUE=DURATION:PT1H
X-Robots-Tag:noindex
X-PUBLISHED-TTL:PT1H
BEGIN:VTIMEZONE
TZID:Europe/Berlin
BEGIN:DAYLIGHT
TZOFFSETFROM:+0100
TZOFFSETTO:+0200
TZNAME:CEST
DTSTART:20250330T010000
END:DAYLIGHT
BEGIN:STANDARD
TZOFFSETFROM:+0200
TZOFFSETTO:+0100
TZNAME:CET
DTSTART:20251026T010000
END:STANDARD
END:VTIMEZONE
BEGIN:VEVENT
DTSTART;TZID=Europe/Berlin:20251111T180000
DTEND;TZID=Europe/Berlin:20251111T200000
DTSTAMP:20260421T201003
CREATED:20251007T101324Z
LAST-MODIFIED:20251018T144644Z
UID:3324-1762884000-1762891200@absolute-run-bremen.de
SUMMARY:Run Visible Brooks
DESCRIPTION:[vc_single_image image=“3348″ img_size=“large“ css=““]🌃 Run Visible mit Brooks\, wir bringen Bremen zum Leuchten! 💡🏃‍♀️ \nAm 11.11.2025 wird zusammen gelaufen im besten Licht\, mit guter Stimmung und jeder Menge Farbe! ✨ \n🕕 18:00 Uhr geht’s los mit der Ausgabe der Schuhe & Run Visible Klamotten🏁 18:30 Uhr starten wir gemeinsam zum Lauf durch die Stadt \nKeine Zeitnahme\, kein Wettkampf wir laufen als Gruppe ganz entspannt durch Bremen. Einfach zusammen unterwegs sein\, sichtbar sein und Spaß haben! 💛 \nUnd danach?🥤 Snacks & Drinks warten schon auf euch! \n📍 Die Plätze sind begrenzt\, also schnell anmelden & dabei sein!
URL:https://absolute-run-bremen.de/veranstaltungen/run-visible-brooks/
END:VEVENT
BEGIN:VEVENT
DTSTART;TZID=Europe/Berlin:20251125T180000
DTEND;TZID=Europe/Berlin:20251125T200000
DTSTAMP:20260421T201003
CREATED:20251007T102409Z
LAST-MODIFIED:20251112T172342Z
UID:3327-1764093600-1764100800@absolute-run-bremen.de
SUMMARY:Saucony Test & Try
DESCRIPTION:[vc_single_image image=“3482″ img_size=“large“ css=““]🌀 Lust auf ein besonderes Lauferlebnis?Dann komm zu unserem Saucony Test & Try Event und probiere den neuen HURRICANE 25 selbst aus! 👟 \nWir treffen uns am Dienstag\, 25.11.2025 um 18:00 Uhr\, um 18:30 Uhr starten wir gemeinsam in einen entspannten Lauf. 🏃‍♀️🏃‍♂️ \nDer Hurricane 25 bietet dir unglaubliche Dämpfung\, Stabilität und ein Laufgefühl\, das du einfach selbst erleben musst. 💨Dazu gibt’s natürlich gute Laune und Zeit zum Austausch mit anderen Laufbegeisterten. 💬✨ \n📍 Ort: Absolute Run Bremen \nAlso: Zieh deine Laufsachen an\, schnür die Schuhe\, wir freuen uns auf dich! 💚
URL:https://absolute-run-bremen.de/veranstaltungen/saucony-test-try/
END:VEVENT
END:VCALENDAR