BEGIN:VCALENDAR
VERSION:2.0
PRODID:-//Absolute Run Bremen - Dein Laufprofi in Bremen - ECPv6.7.0//NONSGML v1.0//EN
CALSCALE:GREGORIAN
METHOD:PUBLISH
X-WR-CALNAME:Absolute Run Bremen - Dein Laufprofi in Bremen
X-ORIGINAL-URL:https://absolute-run-bremen.de
X-WR-CALDESC:Veranstaltungen für Absolute Run Bremen - Dein Laufprofi in Bremen
REFRESH-INTERVAL;VALUE=DURATION:PT1H
X-Robots-Tag:noindex
X-PUBLISHED-TTL:PT1H
BEGIN:VTIMEZONE
TZID:Europe/Berlin
BEGIN:DAYLIGHT
TZOFFSETFROM:+0100
TZOFFSETTO:+0200
TZNAME:CEST
DTSTART:20250330T010000
END:DAYLIGHT
BEGIN:STANDARD
TZOFFSETFROM:+0200
TZOFFSETTO:+0100
TZNAME:CET
DTSTART:20251026T010000
END:STANDARD
END:VTIMEZONE
BEGIN:VEVENT
DTSTART;TZID=Europe/Berlin:20250916T180000
DTEND;TZID=Europe/Berlin:20250916T200000
DTSTAMP:20260421T235549
CREATED:20250909T162421Z
LAST-MODIFIED:20250909T162421Z
UID:3269-1758045600-1758052800@absolute-run-bremen.de
SUMMARY:Asics Test Event Megablast/Sonicblast
DESCRIPTION:[vc_single_image image=“3270″ img_size=“large“ css=““]Komm zum Asics Test Event und probiere dich durch die verschiedenen Modelle. \n  \nFolgende Modelle bringt Asics zum Probieren mit: \n\nMetaspeed Sky Tokyo (super schnell)\nMegablast (sehr schnell)\nSonicblast (schnell)\nPursue (gemütlich)\nGT4000 (stabil)\n\n 
URL:https://absolute-run-bremen.de/veranstaltungen/asics-test-event-megablast-sonicblast/
LOCATION:Absolute Run Bremen\, Am Wall 143\, Bremen\, Bremen\, 28195\, Deutschland
END:VEVENT
END:VCALENDAR