BEGIN:VCALENDAR
VERSION:2.0
PRODID:-//Absolute Run Bremen - Dein Laufprofi in Bremen - ECPv6.7.0//NONSGML v1.0//EN
CALSCALE:GREGORIAN
METHOD:PUBLISH
X-ORIGINAL-URL:https://absolute-run-bremen.de
X-WR-CALDESC:Veranstaltungen für Absolute Run Bremen - Dein Laufprofi in Bremen
REFRESH-INTERVAL;VALUE=DURATION:PT1H
X-Robots-Tag:noindex
X-PUBLISHED-TTL:PT1H
BEGIN:VTIMEZONE
TZID:Europe/Berlin
BEGIN:DAYLIGHT
TZOFFSETFROM:+0100
TZOFFSETTO:+0200
TZNAME:CEST
DTSTART:20250330T010000
END:DAYLIGHT
BEGIN:STANDARD
TZOFFSETFROM:+0200
TZOFFSETTO:+0100
TZNAME:CET
DTSTART:20251026T010000
END:STANDARD
END:VTIMEZONE
BEGIN:VEVENT
DTSTART;TZID=Europe/Berlin:20250812T180000
DTEND;TZID=Europe/Berlin:20250812T200000
DTSTAMP:20260422T014900
CREATED:20250729T145040Z
LAST-MODIFIED:20250730T082409Z
UID:3058-1755021600-1755028800@absolute-run-bremen.de
SUMMARY:Brooks Test Event
DESCRIPTION:[vc_single_image image=“3059″ img_size=“medium“ css=““]Teste den brandneuen Brooks Hyperion Max 3 bei unserem exklusiven Lauftest! 🏃‍♂️⚡ \n📅 12.08.2025📍   Platz 11 am Weserstadion ⏰ 18:00 \nDer Hyperion Max 3 ist da!! Leichter\, schneller\, explosiver! 💨Egal ob du auf neue Bestzeiten läufst oder einfach neugierig bist\, schnapp dir ein Paar und lauf mit! 🙌 \n✅ Kostenlose Teilnahme✅ Brooks-Experten vor Ort✅ Drinks & Snacks nach dem Lauf \nPlätze sind begrenzt\, melde dich jetzt an!👉 „Link in Bio“ \n#brooksrunning #hyperionmax3 #letsrunthere #lauftest #runningcommunity
URL:https://absolute-run-bremen.de/veranstaltungen/brooks-test-event/
LOCATION:Platz 11\, Am Weserstadion 8\, Bremen\, Bremen\, 28205\, Germany
END:VEVENT
BEGIN:VEVENT
DTSTART;TZID=Europe/Berlin:20250826T180000
DTEND;TZID=Europe/Berlin:20250826T200000
DTSTAMP:20260422T014900
CREATED:20250813T123447Z
LAST-MODIFIED:20250813T123447Z
UID:3163-1756231200-1756238400@absolute-run-bremen.de
SUMMARY:Hoka Test Event
DESCRIPTION:[vc_single_image image=“3164″ img_size=“large“ css=““]🚀 TEST & TRY mit HOKA! Der neue Rocket X 3 wartet auf dich! 🏃‍♂️💨 \nDu wolltest schon immer mal den neuesten Carbon Racer von HOKA testen? Jetzt ist deine Chance!Komm vorbei zum exklusiven Test & Try Event und erlebe den Rocket X 3 hautnah und direkt auf der Laufstrecke. \n📅 Datum: 26.08.2025📍 Ort: Absolute Run Bremen🕒 Uhrzeit: 18:00 Uhr (Schuh Ausgabe) 18:30 Uhr Laufen \n🔹 Kostenlos testen🔹 Persönliche Beratung \nLauf rein\, probier’s aus und spür den Unterschied. 🏁🔥Wir sehen uns auf der Strecke!
URL:https://absolute-run-bremen.de/veranstaltungen/hoka-test-event/
ORGANIZER;CN="Absolute Run Bremen":MAILTO:info@absolute-run-bremen.de
END:VEVENT
END:VCALENDAR