BEGIN:VCALENDAR
VERSION:2.0
PRODID:-//Absolute Run Bremen - Dein Laufprofi in Bremen - ECPv6.7.0//NONSGML v1.0//EN
CALSCALE:GREGORIAN
METHOD:PUBLISH
X-WR-CALNAME:Absolute Run Bremen - Dein Laufprofi in Bremen
X-ORIGINAL-URL:https://absolute-run-bremen.de
X-WR-CALDESC:Veranstaltungen für Absolute Run Bremen - Dein Laufprofi in Bremen
REFRESH-INTERVAL;VALUE=DURATION:PT1H
X-Robots-Tag:noindex
X-PUBLISHED-TTL:PT1H
BEGIN:VTIMEZONE
TZID:Europe/Berlin
BEGIN:DAYLIGHT
TZOFFSETFROM:+0100
TZOFFSETTO:+0200
TZNAME:CEST
DTSTART:20250330T010000
END:DAYLIGHT
BEGIN:STANDARD
TZOFFSETFROM:+0200
TZOFFSETTO:+0100
TZNAME:CET
DTSTART:20251026T010000
END:STANDARD
END:VTIMEZONE
BEGIN:VEVENT
DTSTART;TZID=Europe/Berlin:20250708T180000
DTEND;TZID=Europe/Berlin:20250708T200000
DTSTAMP:20260423T141351
CREATED:20250630T132838Z
LAST-MODIFIED:20250630T133038Z
UID:2896-1751997600-1752004800@absolute-run-bremen.de
SUMMARY:Adidas Testevent
DESCRIPTION:[vc_single_image image=“2898″ img_size=“large“ css=““]Die Marke mit den drei Streifen kommt vorbei und lädt euer Komfortlevel auf! \nDas gelingt mit dem brandneuen Adistar Charge ⚡ \n  \nAm 08.07. um 18:00 Uhr starten wir mit der Testschuhausgabe. \nUm 18:30 Uhr laufen wir gemeinsam los! \n  \nWir freuen uns auf euch!
URL:https://absolute-run-bremen.de/veranstaltungen/adidas-testevent/
LOCATION:Absolute Run Bremen\, Am Wall 143\, Bremen\, Bremen\, 28195\, Deutschland
END:VEVENT
BEGIN:VEVENT
DTSTART;TZID=Europe/Berlin:20250722T180000
DTEND;TZID=Europe/Berlin:20250722T200000
DTSTAMP:20260423T141351
CREATED:20250708T115636Z
LAST-MODIFIED:20250708T115636Z
UID:2961-1753207200-1753214400@absolute-run-bremen.de
SUMMARY:New Balance Test & Try
DESCRIPTION:[vc_single_image image=“2964″ img_size=“large“ css=““]New Balance Segment Chase bei Absolute Run Bremen \nWir freuen uns riesig\, euch zu unserem exklusiven New Balance Testevent einzuladen! Am 22. Juli um 18 Uhr habt ihr die einmalige Gelegenheit\, den brandneuen New Balance Rebel v5 und weitere topaktuelle New Balance Laufschuhe direkt bei uns im Laden zu testen. 👟 \nWas euch erwartet: \n – Wir starten gemeinsam zu einer entspannten Runde. \n – Auf dieser Strecke haben wir drei spezielle Segmente für euch vorbereitet\, auf denen ihr eure persönliche Bestzeit jagen könnt! \n – Vor und nach jedem Segment sammeln wir uns\, um dann gemeinsam zum nächsten Abschnitt zu laufen. So könnt ihr euch sportlich beweisen und trotzdem die gemeinsame Laufrunde genießen. \nMitmachen lohnt sich! \nNach dem Lauf werten wir eure Zeiten auf den Segmenten über Strava aus. Die schnellste Frau und der schnellste Mann dürfen sich auf einen kleinen Preis freuen! 🏆 \nUnd das Beste zum Schluss: Nach der Action gibt’s zur Belohnung für alle Teilnehmer leckere vegane Snack vom Vielleicht! 🍦 \nKommt vorbei! Wir freuen uns auf euch!
URL:https://absolute-run-bremen.de/veranstaltungen/new-balance-test-try/
LOCATION:Absolute Run Bremen\, Am Wall 143\, Bremen\, Bremen\, 28195\, Deutschland
END:VEVENT
END:VCALENDAR