BEGIN:VCALENDAR
VERSION:2.0
PRODID:-//Absolute Run Bremen - Dein Laufprofi in Bremen - ECPv6.7.0//NONSGML v1.0//EN
CALSCALE:GREGORIAN
METHOD:PUBLISH
X-ORIGINAL-URL:https://absolute-run-bremen.de
X-WR-CALDESC:Veranstaltungen für Absolute Run Bremen - Dein Laufprofi in Bremen
REFRESH-INTERVAL;VALUE=DURATION:PT1H
X-Robots-Tag:noindex
X-PUBLISHED-TTL:PT1H
BEGIN:VTIMEZONE
TZID:Europe/Berlin
BEGIN:DAYLIGHT
TZOFFSETFROM:+0100
TZOFFSETTO:+0200
TZNAME:CEST
DTSTART:20260329T010000
END:DAYLIGHT
BEGIN:STANDARD
TZOFFSETFROM:+0200
TZOFFSETTO:+0100
TZNAME:CET
DTSTART:20261025T010000
END:STANDARD
END:VTIMEZONE
BEGIN:VEVENT
DTSTART;TZID=Europe/Berlin:20260428T180000
DTEND;TZID=Europe/Berlin:20260428T200000
DTSTAMP:20260421T161737
CREATED:20260421T101958Z
LAST-MODIFIED:20260421T140759Z
UID:4178-1777399200-1777406400@absolute-run-bremen.de
SUMMARY:ON Test & Try
DESCRIPTION:[vc_single_image image=“4189″ img_size=“large“ css=““]🔥 TEST & TRY EVENT 🔥 \nBock auf einen gemeinsamen Run und die neuesten Schuhe von On? 👟 \nTeste den Cloudmonster 3 & Cloudmonster Hyper 3 bei unserem nächsten Event! \n📅 28.04.\n🕕 18:00 Uhr – Schuhausgabe\n🏃‍♂️ 18:30 Uhr – Run \nDanach:\n🍻 Alkoholfreies Erdinger\n🥨 Snacks & entspannter Ausklang \nKomm vorbei\, lauf mit uns und probier die neuesten Styles aus!
URL:https://absolute-run-bremen.de/veranstaltungen/on-test-try/
END:VEVENT
END:VCALENDAR