BEGIN:VCALENDAR
VERSION:2.0
PRODID:-//Absolute Run Bremen - Dein Laufprofi in Bremen - ECPv6.7.0//NONSGML v1.0//EN
CALSCALE:GREGORIAN
METHOD:PUBLISH
X-ORIGINAL-URL:https://absolute-run-bremen.de
X-WR-CALDESC:Veranstaltungen für Absolute Run Bremen - Dein Laufprofi in Bremen
REFRESH-INTERVAL;VALUE=DURATION:PT1H
X-Robots-Tag:noindex
X-PUBLISHED-TTL:PT1H
BEGIN:VTIMEZONE
TZID:Europe/Berlin
BEGIN:DAYLIGHT
TZOFFSETFROM:+0100
TZOFFSETTO:+0200
TZNAME:CEST
DTSTART:20260329T010000
END:DAYLIGHT
BEGIN:STANDARD
TZOFFSETFROM:+0200
TZOFFSETTO:+0100
TZNAME:CET
DTSTART:20261025T010000
END:STANDARD
END:VTIMEZONE
BEGIN:VEVENT
DTSTART;TZID=Europe/Berlin:20260127T180000
DTEND;TZID=Europe/Berlin:20260127T210000
DTSTAMP:20260421T161851
CREATED:20260112T131516Z
LAST-MODIFIED:20260127T102148Z
UID:3720-1769536800-1769547600@absolute-run-bremen.de
SUMMARY:Hoka Test & Try
DESCRIPTION:[vc_single_image image=“3722″ img_size=“large“ css=““]🏃‍♂️ HOKA Test & Try Event 🏃‍♀️Teste den neuen HOKA Gaviota 6 live auf der Laufstrecke! \n📅 27.01.🕕 18:00 Uhr Schuhausgabe🕡 18:30 Uhr gemeinsamer Lauf \nErlebe maximale Stabilität\, Komfort & Support direkt beim Laufen.Komm vorbei\, teste den Schuh und lauf mit uns! 🔥
URL:https://absolute-run-bremen.de/veranstaltungen/hoka-test-try/
END:VEVENT
END:VCALENDAR