BEGIN:VCALENDAR
VERSION:2.0
PRODID:-//Absolute Run Bremen - Dein Laufprofi in Bremen - ECPv6.7.0//NONSGML v1.0//EN
CALSCALE:GREGORIAN
METHOD:PUBLISH
X-WR-CALNAME:Absolute Run Bremen - Dein Laufprofi in Bremen
X-ORIGINAL-URL:https://absolute-run-bremen.de
X-WR-CALDESC:Veranstaltungen für Absolute Run Bremen - Dein Laufprofi in Bremen
REFRESH-INTERVAL;VALUE=DURATION:PT1H
X-Robots-Tag:noindex
X-PUBLISHED-TTL:PT1H
BEGIN:VTIMEZONE
TZID:Europe/Berlin
BEGIN:DAYLIGHT
TZOFFSETFROM:+0100
TZOFFSETTO:+0200
TZNAME:CEST
DTSTART:20260329T010000
END:DAYLIGHT
BEGIN:STANDARD
TZOFFSETFROM:+0200
TZOFFSETTO:+0100
TZNAME:CET
DTSTART:20261025T010000
END:STANDARD
END:VTIMEZONE
BEGIN:VEVENT
DTSTART;TZID=Europe/Berlin:20260121T190000
DTEND;TZID=Europe/Berlin:20260121T203000
DTSTAMP:20260421T181719
CREATED:20260105T103021Z
LAST-MODIFIED:20260105T103021Z
UID:3668-1769022000-1769027400@absolute-run-bremen.de
SUMMARY:Wettkampf Vorbereitung
DESCRIPTION:[vc_single_image image=“3669″ img_size=“large“ css=““]Birte Bernhardt ist seit über zehn Jahren Trainerin des Laufteams A des SV Werder Bremen 🟢⚪. \nAls Athletin hat sie beeindruckende 97 Marathon- und Ultramarathons erfolgreich gefinisht 🏃‍♀️💪.Zu ihren jüngsten Highlights zählen ein 100 km Lauf unter 10 Stunden im Jahr 2024 ⏱️🔥 sowie 2025 der Marathon des Sables\, ein 250 km langes\, self-supported Etappenrennen durch die Sahara 🏜️🎒.
URL:https://absolute-run-bremen.de/veranstaltungen/wettkampf-vorbereitung/
END:VEVENT
END:VCALENDAR