BEGIN:VCALENDAR
VERSION:2.0
PRODID:-//Absolute Run Bremen - Dein Laufprofi in Bremen - ECPv6.7.0//NONSGML v1.0//EN
CALSCALE:GREGORIAN
METHOD:PUBLISH
X-ORIGINAL-URL:https://absolute-run-bremen.de
X-WR-CALDESC:Veranstaltungen für Absolute Run Bremen - Dein Laufprofi in Bremen
REFRESH-INTERVAL;VALUE=DURATION:PT1H
X-Robots-Tag:noindex
X-PUBLISHED-TTL:PT1H
BEGIN:VTIMEZONE
TZID:Europe/Berlin
BEGIN:DAYLIGHT
TZOFFSETFROM:+0100
TZOFFSETTO:+0200
TZNAME:CEST
DTSTART:20250330T010000
END:DAYLIGHT
BEGIN:STANDARD
TZOFFSETFROM:+0200
TZOFFSETTO:+0100
TZNAME:CET
DTSTART:20251026T010000
END:STANDARD
END:VTIMEZONE
BEGIN:VEVENT
DTSTART;TZID=Europe/Berlin:20250520T180000
DTEND;TZID=Europe/Berlin:20250520T200000
DTSTAMP:20260425T133207
CREATED:20250515T091547Z
LAST-MODIFIED:20250515T103930Z
UID:2826-1747764000-1747771200@absolute-run-bremen.de
SUMMARY:Saucony Test Event
DESCRIPTION:[vc_single_image image=“2830″ img_size=“medium“ css=““]Test & Try Event – Saucony Ride 18 \nLaufschuhe an\, los geht’s! Komm vorbei und teste den Saucony Ride 18 hautnah. Spüre Komfort\, Dynamik und Support in jedem Schritt. \n📅 Datum: 20.05.2025 \n📍 Ort: Absolute Run Bremen \n⏰ Uhrzeit: 18:00 Uhr \nOb Laufprofi oder Anfänger – hier zählt nur das Feeling auf der Strecke! \n 
URL:https://absolute-run-bremen.de/veranstaltungen/sausony-test-event/
END:VEVENT
END:VCALENDAR